BEGIN:VCALENDAR
VERSION:2.0
PRODID:-//Agathe Basset - ECPv6.15.20//NONSGML v1.0//EN
CALSCALE:GREGORIAN
METHOD:PUBLISH
X-WR-CALNAME:Agathe Basset
X-ORIGINAL-URL:https://agathebasset.ch
X-WR-CALDESC:Évènements pour Agathe Basset
REFRESH-INTERVAL;VALUE=DURATION:PT1H
X-Robots-Tag:noindex
X-PUBLISHED-TTL:PT1H
BEGIN:VTIMEZONE
TZID:Europe/Zurich
BEGIN:DAYLIGHT
TZOFFSETFROM:+0100
TZOFFSETTO:+0200
TZNAME:CEST
DTSTART:20220327T010000
END:DAYLIGHT
BEGIN:STANDARD
TZOFFSETFROM:+0200
TZOFFSETTO:+0100
TZNAME:CET
DTSTART:20221030T010000
END:STANDARD
BEGIN:DAYLIGHT
TZOFFSETFROM:+0100
TZOFFSETTO:+0200
TZNAME:CEST
DTSTART:20230326T010000
END:DAYLIGHT
BEGIN:STANDARD
TZOFFSETFROM:+0200
TZOFFSETTO:+0100
TZNAME:CET
DTSTART:20231029T010000
END:STANDARD
BEGIN:DAYLIGHT
TZOFFSETFROM:+0100
TZOFFSETTO:+0200
TZNAME:CEST
DTSTART:20240331T010000
END:DAYLIGHT
BEGIN:STANDARD
TZOFFSETFROM:+0200
TZOFFSETTO:+0100
TZNAME:CET
DTSTART:20241027T010000
END:STANDARD
END:VTIMEZONE
BEGIN:VEVENT
DTSTART;TZID=Europe/Zurich:20230301T180000
DTEND;TZID=Europe/Zurich:20230301T200000
DTSTAMP:20260423T172516
CREATED:20230130T144855Z
LAST-MODIFIED:20230130T145449Z
UID:25280-1677693600-1677700800@agathebasset.ch
SUMMARY:Jeux de relation authentique et Circling
DESCRIPTION:Une soirée pour expérimenter de nouvelles façons d’être en relation avec soi et avec les autres. \nLa relation authentique est la pratique d’exprimer librement votre véritable expérience en compagnie des autres. \nS’exprimer de cette manière vous permet de créer des liens dans le monde en fonction de qui vous êtes vraiment. \nLes pratiques de relation authentiques créent un espace sûr et intentionnel – enraciné dans le jeu et soutenu par des limites claires – pour créer des liens significatifs et agréables avec soi et les autres. En apprenant les compétences de relation authentique\, vous pouvez abandonner vos habitudes relationnelles conditionnées et apprendre à établir des relations avec vous-même et avec les autres à partir d’une expression plus profonde et plus authentique de votre vérité. \nCela nous permet d’être plus humains les uns avec les autres\, d’une manière qui tombe souvent à l’eau dans les normes sociales d’aujourd’hui. \nLe résultat est une vie pleine de relations épanouissantes et significatives
URL:https://agathebasset.ch/agenda/jeux-de-relation-authentique-et-circling-2/
CATEGORIES:Jeux de relation authentique
ATTACH;FMTTYPE=image/jpeg:https://agathebasset.ch/wp-content/uploads/2023/01/team-4529717_1920.jpg
END:VEVENT
BEGIN:VEVENT
DTSTART;VALUE=DATE:20230305
DTEND;VALUE=DATE:20230306
DTSTAMP:20260423T172516
CREATED:20230130T153359Z
LAST-MODIFIED:20230130T153359Z
UID:25306-1677974400-1678060799@agathebasset.ch
SUMMARY:Le Jeu de la Transformation
DESCRIPTION:Principe et déroulement du Jeu de la Transformation \nLe Jeu de la Transformation est un jeu de société\, qui se présente sous forme d’un plateau avec des chemins de vie.\nChaque joueur choisit une intention de jeu.\nChaque joueur avance sur un sentier de vie avec un pion\, un dé.  \nDes situations de votre vie refont surface… avec l’option du changement ! \nLe Jeu de la Transformation permet d’explorer des questions vitales\, de révéler des aspects de vous-même. \n Il apporte une inspiration qui touche au cœur de l’être.  \nC’est un catalyseur de changement. \n C’est précis\, surprenant et riche ! \nL’interaction entre les joueurs représente une dimension importante et fructueuse. \n Il n’y a pas de compétition entre les joueurs. Les différentes questions qu’approfondissent les joueurs se complètent et s’enrichissent mutuellement.  \nDans la version de groupe\, ceci est amplifié\, car les intentions de jeu se partagent à plusieurs. \n Les questions personnelles se révèlent être aussi des questions collectives et planétaires ! \n  \nPour 3-5 joueurs adultes
URL:https://agathebasset.ch/agenda/le-jeu-de-la-transformation/
LOCATION:Patricia Derivaz\, chemin du Culat 15\, Bouveret\, 1897\, Suisse
CATEGORIES:jeux dev perso
ATTACH;FMTTYPE=image/jpeg:https://agathebasset.ch/wp-content/uploads/2022/11/jeu-de-la-transformation-agathe-basset.jpg
END:VEVENT
BEGIN:VEVENT
DTSTART;TZID=Europe/Zurich:20230307T180000
DTEND;TZID=Europe/Zurich:20230307T200000
DTSTAMP:20260423T172516
CREATED:20230130T145320Z
LAST-MODIFIED:20230130T145321Z
UID:25282-1678212000-1678219200@agathebasset.ch
SUMMARY:Jeux de relation authentique et Circling
DESCRIPTION:Une soirée pour expérimenter de nouvelles façons d’être en relation avec soi et avec les autres. \nLa relation authentique est la pratique d’exprimer librement votre véritable expérience en compagnie des autres. \nS’exprimer de cette manière vous permet de créer des liens dans le monde en fonction de qui vous êtes vraiment. \nLes pratiques de relation authentiques créent un espace sûr et intentionnel – enraciné dans le jeu et soutenu par des limites claires – pour créer des liens significatifs et agréables avec soi et les autres. En apprenant les compétences de relation authentique\, vous pouvez abandonner vos habitudes relationnelles conditionnées et apprendre à établir des relations avec vous-même et avec les autres à partir d’une expression plus profonde et plus authentique de votre vérité. \nCela nous permet d’être plus humains les uns avec les autres\, d’une manière qui tombe souvent à l’eau dans les normes sociales d’aujourd’hui. \nLe résultat est une vie pleine de relations épanouissantes et significatives
URL:https://agathebasset.ch/agenda/jeux-de-relation-authentique-et-circling-3/
CATEGORIES:Jeux de relation authentique
ATTACH;FMTTYPE=image/png:https://agathebasset.ch/wp-content/uploads/2022/11/mains2-copie.png
END:VEVENT
BEGIN:VEVENT
DTSTART;TZID=Europe/Zurich:20230323T180000
DTEND;TZID=Europe/Zurich:20230323T200000
DTSTAMP:20260423T172516
CREATED:20230130T145851Z
LAST-MODIFIED:20230130T145851Z
UID:25284-1679594400-1679601600@agathebasset.ch
SUMMARY:Jeux de relation authentique et Circling
DESCRIPTION:Une soirée pour expérimenter de nouvelles façons d’être en relation avec soi et avec les autres. \nLa relation authentique est la pratique d’exprimer librement votre véritable expérience en compagnie des autres. \nS’exprimer de cette manière vous permet de créer des liens dans le monde en fonction de qui vous êtes vraiment. \nLes pratiques de relation authentiques créent un espace sûr et intentionnel – enraciné dans le jeu et soutenu par des limites claires – pour créer des liens significatifs et agréables avec soi et les autres. En apprenant les compétences de relation authentique\, vous pouvez abandonner vos habitudes relationnelles conditionnées et apprendre à établir des relations avec vous-même et avec les autres à partir d’une expression plus profonde et plus authentique de votre vérité. \nCela nous permet d’être plus humains les uns avec les autres\, d’une manière qui tombe souvent à l’eau dans les normes sociales d’aujourd’hui. \nLe résultat est une vie pleine de relations épanouissantes et significatives
URL:https://agathebasset.ch/agenda/jeux-de-relation-authentique-et-circling-4/
CATEGORIES:Jeux de relation authentique
ATTACH;FMTTYPE=image/png:https://agathebasset.ch/wp-content/uploads/2022/11/mains1-copie.png
END:VEVENT
BEGIN:VEVENT
DTSTART;TZID=Europe/Zurich:20230330T180000
DTEND;TZID=Europe/Zurich:20230330T200000
DTSTAMP:20260423T172516
CREATED:20230323T090710Z
LAST-MODIFIED:20230323T090710Z
UID:25350-1680199200-1680206400@agathebasset.ch
SUMMARY:Voyage intérieur: Le Critique
DESCRIPTION:Transformez votre Critique intérieur en Protecteur!\n \nAtelier collectif en ligne\, limité à 10 personnes \nVous connaissez certainement cette petite voix qui vous dit que vous n’êtes pas assez ceci ou trop cela? \nIl s’agit d’une partie primitive logée dans votre inconscient et qui cherche à vous protéger de manière très maladroite! \nLors de cet atelier\, je vous guiderai à la rencontre de la personnification de ce juge intérieur et nous entameront un dialogue avec lui pour lui permettre de prendre son rôle de Protecteur. \nPremière partie pour créer un espace de confiance mutuelle et vous permettre de vivre cette expérience de la meilleure manière\, puis je vous accompagnerai vers une transe en ouverture de conscience et vous guiderai à la rencontre de votre Critique et nous terminerons par un partage d’expériences.
URL:https://agathebasset.ch/agenda/voyage-interieur-le-critique/
CATEGORIES:RED
END:VEVENT
END:VCALENDAR